Package: topGO Version: 2.63.0 Command: /home/biocbuild/bbs-3.23-bioc/R/bin/R CMD INSTALL topGO StartedAt: 2025-11-20 15:39:08 -0500 (Thu, 20 Nov 2025) EndedAt: 2025-11-20 15:39:26 -0500 (Thu, 20 Nov 2025) EllapsedTime: 18.4 seconds RetCode: 0 Status: OK