Package: topGO Version: 2.63.0 Command: /Library/Frameworks/R.framework/Resources/bin/R CMD INSTALL topGO StartedAt: 2025-11-20 15:39:26 -0500 (Thu, 20 Nov 2025) EndedAt: 2025-11-20 15:39:53 -0500 (Thu, 20 Nov 2025) EllapsedTime: 26.8 seconds RetCode: 0 Status: OK