Package: topGO Version: 2.63.0 Command: /Library/Frameworks/R.framework/Resources/bin/R CMD build --keep-empty-dirs --no-resave-data topGO StartedAt: 2025-11-20 19:02:14 -0500 (Thu, 20 Nov 2025) EndedAt: 2025-11-20 19:04:34 -0500 (Thu, 20 Nov 2025) EllapsedTime: 140.3 seconds RetCode: 0 Status: OK PackageFile: topGO_2.63.0.tar.gz PackageFileSize: 2.51 MiB