Package: topGO Version: 2.61.1 Command: /Library/Frameworks/R.framework/Resources/bin/R CMD INSTALL topGO StartedAt: 2025-10-26 15:24:15 -0400 (Sun, 26 Oct 2025) EndedAt: 2025-10-26 15:24:23 -0400 (Sun, 26 Oct 2025) EllapsedTime: 7.4 seconds RetCode: 0 Status: OK