Package: topGO Version: 2.61.1 Command: /Library/Frameworks/R.framework/Resources/bin/R CMD build --keep-empty-dirs --no-resave-data topGO StartedAt: 2025-10-26 18:14:44 -0400 (Sun, 26 Oct 2025) EndedAt: 2025-10-26 18:15:34 -0400 (Sun, 26 Oct 2025) EllapsedTime: 49.5 seconds RetCode: 0 Status: OK PackageFile: topGO_2.61.1.tar.gz PackageFileSize: 2.512 MiB