Package: tomoseqr Version: 1.15.0 Command: /home/biocbuild/bbs-3.23-bioc/R/bin/R CMD build --keep-empty-dirs --no-resave-data tomoseqr StartedAt: 2025-11-04 20:26:22 -0500 (Tue, 04 Nov 2025) EndedAt: 2025-11-04 20:26:39 -0500 (Tue, 04 Nov 2025) EllapsedTime: 17.0 seconds RetCode: 0 Status: OK PackageFile: tomoseqr_1.15.0.tar.gz PackageFileSize: 1.558 MiB