Package: tomoseqr Version: 1.13.0 Command: /Library/Frameworks/R.framework/Resources/bin/R CMD build --keep-empty-dirs --no-resave-data tomoseqr StartedAt: 2025-10-12 19:36:06 -0400 (Sun, 12 Oct 2025) EndedAt: 2025-10-12 19:36:32 -0400 (Sun, 12 Oct 2025) EllapsedTime: 26.3 seconds RetCode: 0 Status: OK PackageFile: tomoseqr_1.13.0.tar.gz PackageFileSize: 1.558 MiB