Package: tomoseqr Version: 1.13.0 Maintainer: Ryosuke Matsuzawa MaintainerEmail: kinakomochi.work at gmail.com git_url: https://git.bioconductor.org/packages/tomoseqr git_branch: devel git_last_commit: 5825e41 git_last_commit_date: 2025-04-15 12:48:46 -0400 (Tue, 15 Apr 2025)