Package: tomoda Version: 1.21.0 Command: /home/biocbuild/bbs-3.23-bioc/R/bin/R CMD INSTALL tomoda StartedAt: 2025-11-20 15:34:01 -0500 (Thu, 20 Nov 2025) EndedAt: 2025-11-20 15:34:25 -0500 (Thu, 20 Nov 2025) EllapsedTime: 24.1 seconds RetCode: 0 Status: OK