Package: tomoda Version: 1.21.0 Command: /home/biocbuild/bbs-3.23-bioc/R/bin/R CMD build --keep-empty-dirs --no-resave-data tomoda StartedAt: 2025-11-20 20:33:21 -0500 (Thu, 20 Nov 2025) EndedAt: 2025-11-20 20:34:45 -0500 (Thu, 20 Nov 2025) EllapsedTime: 84.1 seconds RetCode: 0 Status: OK PackageFile: tomoda_1.21.0.tar.gz PackageFileSize: 2.856 MiB