Package: tomoda Version: 1.19.0 Command: /Library/Frameworks/R.framework/Resources/bin/R CMD INSTALL tomoda StartedAt: 2025-10-10 15:21:09 -0400 (Fri, 10 Oct 2025) EndedAt: 2025-10-10 15:21:19 -0400 (Fri, 10 Oct 2025) EllapsedTime: 9.8 seconds RetCode: 0 Status: OK