Package: tomoda Version: 1.19.0 Command: /Library/Frameworks/R.framework/Resources/bin/R CMD build --keep-empty-dirs --no-resave-data tomoda StartedAt: 2025-10-10 17:56:43 -0400 (Fri, 10 Oct 2025) EndedAt: 2025-10-10 17:57:19 -0400 (Fri, 10 Oct 2025) EllapsedTime: 35.4 seconds RetCode: 0 Status: OK PackageFile: tomoda_1.19.0.tar.gz PackageFileSize: 2.9 MiB