Package: tkWidgets Version: 1.87.0 Command: /home/biocbuild/bbs-3.22-bioc/R/bin/R CMD check --install=check:tkWidgets.install-out.txt --library=/home/biocbuild/bbs-3.22-bioc/R/site-library --timings tkWidgets_1.87.0.tar.gz StartedAt: 2025-10-14 05:24:00 -0400 (Tue, 14 Oct 2025) EndedAt: 2025-10-14 05:24:35 -0400 (Tue, 14 Oct 2025) EllapsedTime: 35.1 seconds RetCode: 0 Status: OK CheckDir: tkWidgets.Rcheck Warnings: 0