Package: tkWidgets Version: 1.89.0 Command: /home/biocbuild/bbs-3.23-bioc/R/bin/R CMD INSTALL tkWidgets StartedAt: 2025-11-20 15:04:34 -0500 (Thu, 20 Nov 2025) EndedAt: 2025-11-20 15:04:40 -0500 (Thu, 20 Nov 2025) EllapsedTime: 6.5 seconds RetCode: 0 Status: OK