Package: timescape Version: 1.35.0 Command: /Library/Frameworks/R.framework/Resources/bin/R CMD build --keep-empty-dirs --no-resave-data timescape StartedAt: 2025-11-20 17:58:07 -0500 (Thu, 20 Nov 2025) EndedAt: 2025-11-20 17:58:11 -0500 (Thu, 20 Nov 2025) EllapsedTime: 4.0 seconds RetCode: 0 Status: OK PackageFile: timescape_1.35.0.tar.gz PackageFileSize: 672.4 KiB