Package: timescape Version: 1.35.0 Command: rm -rf timescape.buildbin-libdir && mkdir timescape.buildbin-libdir && /Users/biocbuild/BBS/utils/build-universal.sh timescape_1.35.0.tar.gz /Library/Frameworks/R.framework/Resources/bin/R timescape.buildbin-libdir StartedAt: 2025-11-21 23:54:51 -0500 (Fri, 21 Nov 2025) EndedAt: 2025-11-21 23:54:53 -0500 (Fri, 21 Nov 2025) EllapsedTime: 2.1 seconds RetCode: 0 Status: OK PackageFile: timescape_1.35.0.tgz PackageFileSize: 478 KiB