Package: timecourse Version: 1.83.0 Command: /home/biocbuild/bbs-3.23-bioc/R/bin/R CMD check --install=check:timecourse.install-out.txt --library=/home/biocbuild/bbs-3.23-bioc/R/site-library --timings timecourse_1.83.0.tar.gz StartedAt: 2025-11-01 04:20:23 -0400 (Sat, 01 Nov 2025) EndedAt: 2025-11-01 04:21:10 -0400 (Sat, 01 Nov 2025) EllapsedTime: 47.0 seconds RetCode: 0 Status: OK CheckDir: timecourse.Rcheck Warnings: 0