Package: timeOmics Version: 1.21.0 Command: /home/biocbuild/R/R/bin/R CMD INSTALL timeOmics StartedAt: 2025-10-23 20:27:12 -0000 (Thu, 23 Oct 2025) EndedAt: 2025-10-23 20:27:39 -0000 (Thu, 23 Oct 2025) EllapsedTime: 26.9 seconds RetCode: 0 Status: OK