Package: timeOmics Version: 1.23.0 Command: /home/biocbuild/bbs-3.23-bioc/R/bin/R CMD build --keep-empty-dirs --no-resave-data timeOmics StartedAt: 2025-11-07 20:28:06 -0500 (Fri, 07 Nov 2025) EndedAt: 2025-11-07 20:28:43 -0500 (Fri, 07 Nov 2025) EllapsedTime: 37.1 seconds RetCode: 0 Status: OK PackageFile: timeOmics_1.23.0.tar.gz PackageFileSize: 3.976 MiB