Package: timeOmics Version: 1.21.0 Command: /Library/Frameworks/R.framework/Resources/bin/R CMD INSTALL timeOmics StartedAt: 2025-09-30 15:11:54 -0400 (Tue, 30 Sep 2025) EndedAt: 2025-09-30 15:12:28 -0400 (Tue, 30 Sep 2025) EllapsedTime: 34.1 seconds RetCode: 0 Status: OK