Package: timeOmics Version: 1.21.0 Command: /Library/Frameworks/R.framework/Resources/bin/R CMD build --keep-empty-dirs --no-resave-data timeOmics StartedAt: 2025-09-30 19:08:01 -0400 (Tue, 30 Sep 2025) EndedAt: 2025-09-30 19:08:52 -0400 (Tue, 30 Sep 2025) EllapsedTime: 51.1 seconds RetCode: 0 Status: OK PackageFile: timeOmics_1.21.0.tar.gz PackageFileSize: 4.011 MiB