Package: tilingArray Version: 1.89.0 Command: /home/biocbuild/bbs-3.23-bioc/R/bin/R CMD INSTALL tilingArray StartedAt: 2025-11-07 15:56:40 -0500 (Fri, 07 Nov 2025) EndedAt: 2025-11-07 15:57:05 -0500 (Fri, 07 Nov 2025) EllapsedTime: 24.7 seconds RetCode: 0 Status: OK