Package: tilingArray Version: 1.89.0 Command: /home/biocbuild/bbs-3.23-bioc/R/bin/R CMD check --install=check:tilingArray.install-out.txt --library=/home/biocbuild/bbs-3.23-bioc/R/site-library --timings tilingArray_1.89.0.tar.gz StartedAt: 2025-11-08 04:46:02 -0500 (Sat, 08 Nov 2025) EndedAt: 2025-11-08 04:49:01 -0500 (Sat, 08 Nov 2025) EllapsedTime: 179.3 seconds RetCode: 0 Status: OK CheckDir: tilingArray.Rcheck Warnings: 0