Package: tilingArray Version: 1.87.0 Command: /Library/Frameworks/R.framework/Resources/bin/R CMD check --install=check:tilingArray.install-out.txt --library=/Library/Frameworks/R.framework/Resources/library --no-vignettes --timings tilingArray_1.87.0.tar.gz StartedAt: 2025-10-10 01:44:38 -0400 (Fri, 10 Oct 2025) EndedAt: 2025-10-10 01:47:43 -0400 (Fri, 10 Oct 2025) EllapsedTime: 185.8 seconds RetCode: 0 Status: OK CheckDir: tilingArray.Rcheck Warnings: 0