Package: tigre Version: 1.65.0 Command: /home/biocbuild/bbs-3.23-bioc/R/bin/R CMD build --keep-empty-dirs --no-resave-data tigre StartedAt: 2025-11-18 21:21:40 -0500 (Tue, 18 Nov 2025) EndedAt: 2025-11-18 21:24:44 -0500 (Tue, 18 Nov 2025) EllapsedTime: 184.2 seconds RetCode: 0 Status: OK PackageFile: tigre_1.65.0.tar.gz PackageFileSize: 317.8 KiB