Package: tidytof Version: 1.5.0 Command: /home/biocbuild/bbs-3.23-bioc/R/bin/R CMD INSTALL tidytof StartedAt: 2025-11-03 15:13:18 -0500 (Mon, 03 Nov 2025) EndedAt: 2025-11-03 15:13:45 -0500 (Mon, 03 Nov 2025) EllapsedTime: 26.7 seconds RetCode: 0 Status: OK