Package: tidytof Version: 1.5.0 Command: /home/biocbuild/bbs-3.23-bioc/R/bin/R CMD check --install=check:tidytof.install-out.txt --library=/home/biocbuild/bbs-3.23-bioc/R/site-library --timings tidytof_1.5.0.tar.gz StartedAt: 2025-11-06 04:43:17 -0500 (Thu, 06 Nov 2025) EndedAt: 2025-11-06 04:55:21 -0500 (Thu, 06 Nov 2025) EllapsedTime: 724.0 seconds RetCode: 1 Status: ERROR CheckDir: tidytof.Rcheck Warnings: NA