Package: tidytof Version: 1.5.0 Command: /home/biocbuild/bbs-3.23-bioc/R/bin/R CMD build --keep-empty-dirs --no-resave-data tidytof StartedAt: 2025-11-02 20:23:01 -0500 (Sun, 02 Nov 2025) EndedAt: 2025-11-02 20:27:26 -0500 (Sun, 02 Nov 2025) EllapsedTime: 264.3 seconds RetCode: 0 Status: OK PackageFile: tidytof_1.5.0.tar.gz PackageFileSize: 2.467 MiB