Package: tidytof Version: 1.3.0 Command: /Library/Frameworks/R.framework/Resources/bin/R CMD check --install=check:tidytof.install-out.txt --library=/Library/Frameworks/R.framework/Resources/library --no-vignettes --timings tidytof_1.3.0.tar.gz StartedAt: 2025-10-23 22:36:53 -0400 (Thu, 23 Oct 2025) EndedAt: 2025-10-23 22:39:22 -0400 (Thu, 23 Oct 2025) EllapsedTime: 148.8 seconds RetCode: 1 Status: ERROR CheckDir: tidytof.Rcheck Warnings: NA