Package: tidysbml Version: 1.3.0 Command: /Library/Frameworks/R.framework/Resources/bin/R CMD INSTALL tidysbml StartedAt: 2025-10-08 15:11:01 -0400 (Wed, 08 Oct 2025) EndedAt: 2025-10-08 15:11:32 -0400 (Wed, 08 Oct 2025) EllapsedTime: 30.4 seconds RetCode: 0 Status: OK