Package: tidysbml Version: 1.3.0 Command: /Library/Frameworks/R.framework/Resources/bin/R CMD build --keep-empty-dirs --no-resave-data tidysbml StartedAt: 2025-10-08 19:39:12 -0400 (Wed, 08 Oct 2025) EndedAt: 2025-10-08 19:39:33 -0400 (Wed, 08 Oct 2025) EllapsedTime: 21.7 seconds RetCode: 0 Status: OK PackageFile: tidysbml_1.3.0.tar.gz PackageFileSize: 306.1 KiB