Package: tidysbml Version: 1.3.0 Command: rm -rf tidysbml.buildbin-libdir && mkdir tidysbml.buildbin-libdir && /Users/biocbuild/BBS/utils/build-universal.sh tidysbml_1.3.0.tar.gz /Library/Frameworks/R.framework/Resources/bin/R tidysbml.buildbin-libdir StartedAt: 2025-10-10 03:04:17 -0400 (Fri, 10 Oct 2025) EndedAt: 2025-10-10 03:04:25 -0400 (Fri, 10 Oct 2025) EllapsedTime: 7.7 seconds RetCode: 0 Status: OK PackageFile: tidysbml_1.3.0.tgz PackageFileSize: 334.2 KiB