Package: tidyomics Version: 1.7.0 Command: /home/biocbuild/bbs-3.23-bioc/R/bin/R CMD INSTALL tidyomics StartedAt: 2025-11-06 15:33:02 -0500 (Thu, 06 Nov 2025) EndedAt: 2025-11-06 15:33:36 -0500 (Thu, 06 Nov 2025) EllapsedTime: 34.0 seconds RetCode: 0 Status: OK