Package: tidyomics Version: 1.7.0 Command: /home/biocbuild/bbs-3.23-bioc/R/bin/R CMD check --install=check:tidyomics.install-out.txt --library=/home/biocbuild/bbs-3.23-bioc/R/site-library --timings tidyomics_1.7.0.tar.gz StartedAt: 2025-11-07 04:31:33 -0500 (Fri, 07 Nov 2025) EndedAt: 2025-11-07 04:35:10 -0500 (Fri, 07 Nov 2025) EllapsedTime: 217.2 seconds RetCode: 0 Status: OK CheckDir: tidyomics.Rcheck Warnings: 0