Package: tidybulk Version: 2.1.0 Command: /Library/Frameworks/R.framework/Resources/bin/R CMD check --install=check:tidybulk.install-out.txt --library=/Library/Frameworks/R.framework/Resources/library --no-vignettes --timings tidybulk_2.1.0.tar.gz StartedAt: 2025-11-24 00:45:06 -0500 (Mon, 24 Nov 2025) EndedAt: 2025-11-24 01:01:29 -0500 (Mon, 24 Nov 2025) EllapsedTime: 982.6 seconds RetCode: 0 Status: OK CheckDir: tidybulk.Rcheck Warnings: 0