Package: tidybulk Version: 1.99.4 Command: /Library/Frameworks/R.framework/Resources/bin/R CMD check --install=check:tidybulk.install-out.txt --library=/Library/Frameworks/R.framework/Resources/library --no-vignettes --timings tidybulk_1.99.4.tar.gz StartedAt: 2025-10-15 22:13:23 -0400 (Wed, 15 Oct 2025) EndedAt: 2025-10-15 22:19:28 -0400 (Wed, 15 Oct 2025) EllapsedTime: 365.3 seconds RetCode: 0 Status: OK CheckDir: tidybulk.Rcheck Warnings: 0