Package: tidySummarizedExperiment Version: 1.19.6 Command: /home/biocbuild/R/R/bin/R CMD check --install=check:tidySummarizedExperiment.install-out.txt --library=/home/biocbuild/R/R/site-library --no-vignettes --timings tidySummarizedExperiment_1.19.6.tar.gz StartedAt: 2025-10-14 13:37:46 -0000 (Tue, 14 Oct 2025) EndedAt: 2025-10-14 13:43:42 -0000 (Tue, 14 Oct 2025) EllapsedTime: 355.4 seconds RetCode: 0 Status: OK CheckDir: tidySummarizedExperiment.Rcheck Warnings: 0