Package: tidySpatialExperiment Version: 1.5.0 Command: /home/biocbuild/R/R/bin/R CMD check --install=check:tidySpatialExperiment.install-out.txt --library=/home/biocbuild/R/R/site-library --no-vignettes --timings tidySpatialExperiment_1.5.0.tar.gz StartedAt: 2025-09-30 14:15:19 -0000 (Tue, 30 Sep 2025) EndedAt: 2025-09-30 14:20:51 -0000 (Tue, 30 Sep 2025) EllapsedTime: 332.3 seconds RetCode: 0 Status: OK CheckDir: tidySpatialExperiment.Rcheck Warnings: 0