Package: tidySpatialExperiment Version: 1.7.1 Command: /home/biocbuild/bbs-3.23-bioc/R/bin/R CMD INSTALL tidySpatialExperiment StartedAt: 2025-11-05 15:29:31 -0500 (Wed, 05 Nov 2025) EndedAt: 2025-11-05 15:29:59 -0500 (Wed, 05 Nov 2025) EllapsedTime: 28.7 seconds RetCode: 0 Status: OK