Package: tidySpatialExperiment Version: 1.7.1 Command: /home/biocbuild/bbs-3.23-bioc/R/bin/R CMD check --install=check:tidySpatialExperiment.install-out.txt --library=/home/biocbuild/bbs-3.23-bioc/R/site-library --timings tidySpatialExperiment_1.7.1.tar.gz StartedAt: 2025-11-06 04:43:03 -0500 (Thu, 06 Nov 2025) EndedAt: 2025-11-06 04:47:48 -0500 (Thu, 06 Nov 2025) EllapsedTime: 285.4 seconds RetCode: 0 Status: OK CheckDir: tidySpatialExperiment.Rcheck Warnings: 0