Package: tidySpatialExperiment Version: 1.7.1 Command: /home/biocbuild/bbs-3.23-bioc/R/bin/R CMD build --keep-empty-dirs --no-resave-data tidySpatialExperiment StartedAt: 2025-11-05 20:31:33 -0500 (Wed, 05 Nov 2025) EndedAt: 2025-11-05 20:32:26 -0500 (Wed, 05 Nov 2025) EllapsedTime: 53.1 seconds RetCode: 0 Status: OK PackageFile: tidySpatialExperiment_1.7.1.tar.gz PackageFileSize: 4.331 MiB