Package: tidySingleCellExperiment Version: 1.19.1 Command: /home/biocbuild/R/R/bin/R CMD check --install=check:tidySingleCellExperiment.install-out.txt --library=/home/biocbuild/R/R/site-library --no-vignettes --timings tidySingleCellExperiment_1.19.1.tar.gz StartedAt: 2025-10-17 14:28:27 -0000 (Fri, 17 Oct 2025) EndedAt: 2025-10-17 14:33:39 -0000 (Fri, 17 Oct 2025) EllapsedTime: 312.4 seconds RetCode: 0 Status: OK CheckDir: tidySingleCellExperiment.Rcheck Warnings: 0