Package: tidySingleCellExperiment Version: 1.21.0 Command: /home/biocbuild/bbs-3.23-bioc/R/bin/R CMD build --keep-empty-dirs --no-resave-data tidySingleCellExperiment StartedAt: 2025-11-03 20:21:40 -0500 (Mon, 03 Nov 2025) EndedAt: 2025-11-03 20:23:07 -0500 (Mon, 03 Nov 2025) EllapsedTime: 87.1 seconds RetCode: 0 Status: OK PackageFile: tidySingleCellExperiment_1.21.0.tar.gz PackageFileSize: 1.123 MiB