Package: tidySingleCellExperiment Version: 1.19.0 Command: /Library/Frameworks/R.framework/Resources/bin/R CMD check --install=check:tidySingleCellExperiment.install-out.txt --library=/Library/Frameworks/R.framework/Resources/library --no-vignettes --timings tidySingleCellExperiment_1.19.0.tar.gz StartedAt: 2025-10-03 22:07:48 -0400 (Fri, 03 Oct 2025) EndedAt: 2025-10-03 22:09:16 -0400 (Fri, 03 Oct 2025) EllapsedTime: 88.0 seconds RetCode: 0 Status: OK CheckDir: tidySingleCellExperiment.Rcheck Warnings: 0