Package: tidyFlowCore Version: 1.5.0 Command: /home/biocbuild/bbs-3.23-bioc/R/bin/R CMD check --install=check:tidyFlowCore.install-out.txt --library=/home/biocbuild/bbs-3.23-bioc/R/site-library --timings tidyFlowCore_1.5.0.tar.gz StartedAt: 2025-11-21 04:47:50 -0500 (Fri, 21 Nov 2025) EndedAt: 2025-11-21 04:50:04 -0500 (Fri, 21 Nov 2025) EllapsedTime: 134.2 seconds RetCode: 0 Status: OK CheckDir: tidyFlowCore.Rcheck Warnings: 0