Package: tidyCoverage Version: 1.7.0 Command: /home/biocbuild/bbs-3.23-bioc/R/bin/R CMD INSTALL tidyCoverage StartedAt: 2025-11-03 15:26:14 -0500 (Mon, 03 Nov 2025) EndedAt: 2025-11-03 15:26:49 -0500 (Mon, 03 Nov 2025) EllapsedTime: 35.1 seconds RetCode: 0 Status: OK