Package: tidyCoverage Version: 1.7.0 Command: /home/biocbuild/bbs-3.23-bioc/R/bin/R CMD build --keep-empty-dirs --no-resave-data tidyCoverage StartedAt: 2025-11-03 20:21:05 -0500 (Mon, 03 Nov 2025) EndedAt: 2025-11-03 20:24:03 -0500 (Mon, 03 Nov 2025) EllapsedTime: 178.2 seconds RetCode: 0 Status: OK PackageFile: tidyCoverage_1.7.0.tar.gz PackageFileSize: 3.734 MiB