Package: terraTCGAdata Version: 1.15.0 Command: /home/biocbuild/bbs-3.23-bioc/R/bin/R CMD INSTALL terraTCGAdata StartedAt: 2025-11-05 15:50:26 -0500 (Wed, 05 Nov 2025) EndedAt: 2025-11-05 15:50:52 -0500 (Wed, 05 Nov 2025) EllapsedTime: 25.6 seconds RetCode: 0 Status: OK