Package: terraTCGAdata Version: 1.15.0 Command: /home/biocbuild/bbs-3.23-bioc/R/bin/R CMD build --keep-empty-dirs --no-resave-data terraTCGAdata StartedAt: 2025-11-05 20:29:36 -0500 (Wed, 05 Nov 2025) EndedAt: 2025-11-05 20:30:10 -0500 (Wed, 05 Nov 2025) EllapsedTime: 34.0 seconds RetCode: 0 Status: OK PackageFile: terraTCGAdata_1.15.0.tar.gz PackageFileSize: 234.3 KiB