Package: terraTCGAdata Version: 1.13.0 Command: /Library/Frameworks/R.framework/Resources/bin/R CMD INSTALL terraTCGAdata StartedAt: 2025-10-13 15:40:34 -0400 (Mon, 13 Oct 2025) EndedAt: 2025-10-13 15:41:10 -0400 (Mon, 13 Oct 2025) EllapsedTime: 35.8 seconds RetCode: 0 Status: OK